BEGIN:VCALENDAR
VERSION:2.0
PRODID:-//Guia da Cidade - ECPv6.15.17//NONSGML v1.0//EN
CALSCALE:GREGORIAN
METHOD:PUBLISH
X-ORIGINAL-URL:https://turismo.santaisabel.sp.gov.br
X-WR-CALDESC:Eventos para Guia da Cidade
REFRESH-INTERVAL;VALUE=DURATION:PT1H
X-Robots-Tag:noindex
X-PUBLISHED-TTL:PT1H
BEGIN:VTIMEZONE
TZID:America/Sao_Paulo
BEGIN:STANDARD
TZOFFSETFROM:-0300
TZOFFSETTO:-0300
TZNAME:-03
DTSTART:20240101T000000
END:STANDARD
END:VTIMEZONE
BEGIN:VEVENT
DTSTART;TZID=America/Sao_Paulo:20250705T180000
DTEND;TZID=America/Sao_Paulo:20250705T180000
DTSTAMP:20260424T071251
CREATED:20250506T135722Z
LAST-MODIFIED:20250506T140342Z
UID:21525-1751738400-1751738400@turismo.santaisabel.sp.gov.br
SUMMARY:SANTA ISABEL RODEIO FEST- 1º DIA
DESCRIPTION:Data: 05 de julho de 2025 \nLocal:  Terminal Rodoviário Urbano – Rua Pref. José Raymundo Lobo\, s/n\, Jd. Monte Serrat. \nHorário: 18h00
URL:https://turismo.santaisabel.sp.gov.br/evento/santa-isabel-rodeio-fest-1o-dia/
LOCATION:São Paulo
END:VEVENT
END:VCALENDAR