BEGIN:VCALENDAR
VERSION:2.0
PRODID:-//Guia da Cidade - ECPv6.15.17//NONSGML v1.0//EN
CALSCALE:GREGORIAN
METHOD:PUBLISH
X-WR-CALNAME:Guia da Cidade
X-ORIGINAL-URL:https://turismo.santaisabel.sp.gov.br
X-WR-CALDESC:Eventos para Guia da Cidade
REFRESH-INTERVAL;VALUE=DURATION:PT1H
X-Robots-Tag:noindex
X-PUBLISHED-TTL:PT1H
BEGIN:VTIMEZONE
TZID:America/Sao_Paulo
BEGIN:STANDARD
TZOFFSETFROM:-0300
TZOFFSETTO:-0300
TZNAME:-03
DTSTART:20240101T000000
END:STANDARD
END:VTIMEZONE
BEGIN:VEVENT
DTSTART;TZID=America/Sao_Paulo:20250706T080000
DTEND;TZID=America/Sao_Paulo:20250706T170000
DTSTAMP:20260424T070954
CREATED:20250506T165601Z
LAST-MODIFIED:20250506T165605Z
UID:21547-1751788800-1751821200@turismo.santaisabel.sp.gov.br
SUMMARY:DESFILE CÍVICO
DESCRIPTION:Data: 06 de julho de 2025 \nLocal:  Av. República\, s/n\, Centro. \nHorário: 08h – 17h
URL:https://turismo.santaisabel.sp.gov.br/evento/desfile-civico/
LOCATION:São Paulo
END:VEVENT
BEGIN:VEVENT
DTSTART;TZID=America/Sao_Paulo:20250706T180000
DTEND;TZID=America/Sao_Paulo:20250706T180000
DTSTAMP:20260424T070954
CREATED:20250506T140020Z
LAST-MODIFIED:20250506T140318Z
UID:21527-1751824800-1751824800@turismo.santaisabel.sp.gov.br
SUMMARY:SANTA ISABEL RODEIO FEST - 2º DIA
DESCRIPTION:Data: 06 de julho de 2025 \nLocal:  Terminal Rodoviário Urbano – Rua Pref. José Raymundo Lobo\, s/n\, Jd. Monte Serrat. \nHorário: 18h00
URL:https://turismo.santaisabel.sp.gov.br/evento/santa-isabel-rodeio-fest-2o-dia/
LOCATION:São Paulo
END:VEVENT
END:VCALENDAR