BEGIN:VCALENDAR
VERSION:2.0
PRODID:-//Guia da Cidade - ECPv6.15.17//NONSGML v1.0//EN
CALSCALE:GREGORIAN
METHOD:PUBLISH
X-ORIGINAL-URL:https://turismo.santaisabel.sp.gov.br
X-WR-CALDESC:Eventos para Guia da Cidade
REFRESH-INTERVAL;VALUE=DURATION:PT1H
X-Robots-Tag:noindex
X-PUBLISHED-TTL:PT1H
BEGIN:VTIMEZONE
TZID:America/Sao_Paulo
BEGIN:STANDARD
TZOFFSETFROM:-0300
TZOFFSETTO:-0300
TZNAME:-03
DTSTART:20240101T000000
END:STANDARD
END:VTIMEZONE
BEGIN:VEVENT
DTSTART;TZID=America/Sao_Paulo:20250725T070000
DTEND;TZID=America/Sao_Paulo:20250727T170000
DTSTAMP:20260424T071257
CREATED:20250508T143003Z
LAST-MODIFIED:20250508T143014Z
UID:21564-1753426800-1753635600@turismo.santaisabel.sp.gov.br
SUMMARY:ECC- ENCONTRO DE CASAIS - PARÓQUIA NOSSA SENHORA APARECIDA
DESCRIPTION:Data: De 25 a 27 de julho de 2025 \nLocal:  EMEB Pref. Waldir José Cabral Saueia – Rua das Rosas\, 780\, Jd. Novo Éden. \nHorário: 07h
URL:https://turismo.santaisabel.sp.gov.br/evento/ecc-encontro-de-casais-paroquia-nossa-senhora-aparecida/
LOCATION:São Paulo
END:VEVENT
END:VCALENDAR