BEGIN:VCALENDAR
VERSION:2.0
PRODID:-//Guia da Cidade - ECPv6.15.17//NONSGML v1.0//EN
CALSCALE:GREGORIAN
METHOD:PUBLISH
X-ORIGINAL-URL:https://turismo.santaisabel.sp.gov.br
X-WR-CALDESC:Eventos para Guia da Cidade
REFRESH-INTERVAL;VALUE=DURATION:PT1H
X-Robots-Tag:noindex
X-PUBLISHED-TTL:PT1H
BEGIN:VTIMEZONE
TZID:America/Sao_Paulo
BEGIN:STANDARD
TZOFFSETFROM:-0300
TZOFFSETTO:-0300
TZNAME:-03
DTSTART:20240101T000000
END:STANDARD
END:VTIMEZONE
BEGIN:VEVENT
DTSTART;VALUE=DATE:20250817
DTEND;VALUE=DATE:20250818
DTSTAMP:20260424T061713
CREATED:20250521T134132Z
LAST-MODIFIED:20250521T134132Z
UID:21610-1755388800-1755475199@turismo.santaisabel.sp.gov.br
SUMMARY:QUERMESSE E BINGO - CAPELA SÃO ROQUE
DESCRIPTION:Data: 17 de Agosto de 2025 – Domingo \nHorário: 18h \nLocal: Capela São Roque – Estrada da Pedra Branca\, km 2 – Bairro: Ouro Fino \nOrganização: Paróquia Santa Teresa D’Ávila \n 
URL:https://turismo.santaisabel.sp.gov.br/evento/quermesse-e-bingo-capela-sao-roque/
LOCATION:São Paulo
CATEGORIES:Festas
END:VEVENT
END:VCALENDAR