BEGIN:VCALENDAR
VERSION:2.0
PRODID:-//Guia da Cidade - ECPv6.15.17//NONSGML v1.0//EN
CALSCALE:GREGORIAN
METHOD:PUBLISH
X-ORIGINAL-URL:https://turismo.santaisabel.sp.gov.br
X-WR-CALDESC:Eventos para Guia da Cidade
REFRESH-INTERVAL;VALUE=DURATION:PT1H
X-Robots-Tag:noindex
X-PUBLISHED-TTL:PT1H
BEGIN:VTIMEZONE
TZID:America/Sao_Paulo
BEGIN:STANDARD
TZOFFSETFROM:-0300
TZOFFSETTO:-0300
TZNAME:-03
DTSTART:20240101T000000
END:STANDARD
END:VTIMEZONE
BEGIN:VEVENT
DTSTART;VALUE=DATE:20250821
DTEND;VALUE=DATE:20250822
DTSTAMP:20260424T060411
CREATED:20250521T150114Z
LAST-MODIFIED:20250521T150114Z
UID:21614-1755734400-1755820799@turismo.santaisabel.sp.gov.br
SUMMARY:FESTIVAL DE ATLETISMO
DESCRIPTION:Data: 21 de Agosto de 2025 \nHorário: Período da manhã e tarde \nLocal: Parque Municipal de Santa Isabel (R. Pres. Castelo Branco\, 305 – Recanto No Céu) \nOrganização: Secretaria de Esporte e Lazer
URL:https://turismo.santaisabel.sp.gov.br/evento/festival-de-atletismo/
LOCATION:São Paulo
CATEGORIES:Eventos
END:VEVENT
END:VCALENDAR