BEGIN:VCALENDAR
VERSION:2.0
PRODID:-//Guia da Cidade - ECPv6.15.17//NONSGML v1.0//EN
CALSCALE:GREGORIAN
METHOD:PUBLISH
X-ORIGINAL-URL:https://turismo.santaisabel.sp.gov.br
X-WR-CALDESC:Eventos para Guia da Cidade
REFRESH-INTERVAL;VALUE=DURATION:PT1H
X-Robots-Tag:noindex
X-PUBLISHED-TTL:PT1H
BEGIN:VTIMEZONE
TZID:America/Sao_Paulo
BEGIN:STANDARD
TZOFFSETFROM:-0300
TZOFFSETTO:-0300
TZNAME:-03
DTSTART:20240101T000000
END:STANDARD
END:VTIMEZONE
BEGIN:VEVENT
DTSTART;TZID=America/Sao_Paulo:20251113T130000
DTEND;TZID=America/Sao_Paulo:20251113T220000
DTSTAMP:20260424T043312
CREATED:20251029T152025Z
LAST-MODIFIED:20251029T152118Z
UID:21845-1763038800-1763071200@turismo.santaisabel.sp.gov.br
SUMMARY:13/11 - 1º DIA - EXPOBEL CIDADE EMPREENDORA 2025
DESCRIPTION:Local: Terminal Rodoviário de Santa Isabel\nInstagram: @expobelsi\n  \n 
URL:https://turismo.santaisabel.sp.gov.br/evento/13-11-1o-dia-expobel-cidade-empreendora-2025/
LOCATION:Terminal Rodoviario\, Terminal Rodoviário\, santa Isabel\, São Paulo\, 07500000\, Brazil
CATEGORIES:Eventos,Feiras,Festas,Shows
ATTACH;FMTTYPE=image/jpeg:https://turismo.santaisabel.sp.gov.br/wp-content/uploads/2025/10/WhatsApp-Image-2025-10-29-at-11.20.48-1.jpeg
END:VEVENT
BEGIN:VEVENT
DTSTART;TZID=America/Sao_Paulo:20251113T130000
DTEND;TZID=America/Sao_Paulo:20251116T220000
DTSTAMP:20260424T043312
CREATED:20251008T203042Z
LAST-MODIFIED:20251029T152442Z
UID:21759-1763038800-1763330400@turismo.santaisabel.sp.gov.br
SUMMARY:EXPOBEL - CIDADE EMPREENDEDORA 2025
DESCRIPTION:  \n  \n 
URL:https://turismo.santaisabel.sp.gov.br/evento/expobel/
LOCATION:Terminal Rodoviario\, Terminal Rodoviário\, santa Isabel\, São Paulo\, 07500000\, Brazil
CATEGORIES:Eventos,Feiras,Festas,Shows
ATTACH;FMTTYPE=image/jpeg:https://turismo.santaisabel.sp.gov.br/wp-content/uploads/2025/10/WhatsApp-Image-2025-10-29-at-11.20.48.jpeg
END:VEVENT
BEGIN:VEVENT
DTSTART;TZID=America/Sao_Paulo:20251114T130000
DTEND;TZID=America/Sao_Paulo:20251114T220000
DTSTAMP:20260424T043312
CREATED:20251029T153158Z
LAST-MODIFIED:20251029T153158Z
UID:21852-1763125200-1763157600@turismo.santaisabel.sp.gov.br
SUMMARY:14/11 - 2º DIA - EXPOBEL CIDADE EMPREENDORA 2025
DESCRIPTION:Local: Terminal Rodoviário de Santa Isabel\nInstagram: @expobelsi
URL:https://turismo.santaisabel.sp.gov.br/evento/14-11-2o-dia-expobel-cidade-empreendora-2025/
LOCATION:Terminal Rodoviario\, Terminal Rodoviário\, santa Isabel\, São Paulo\, 07500000\, Brazil
CATEGORIES:Eventos,Feiras,Festas,Shows
ATTACH;FMTTYPE=image/jpeg:https://turismo.santaisabel.sp.gov.br/wp-content/uploads/2025/10/WhatsApp-Image-2025-10-29-at-11.20.49.jpeg
END:VEVENT
BEGIN:VEVENT
DTSTART;TZID=America/Sao_Paulo:20251115T130000
DTEND;TZID=America/Sao_Paulo:20251115T220000
DTSTAMP:20260424T043312
CREATED:20251029T153441Z
LAST-MODIFIED:20251029T153631Z
UID:21854-1763211600-1763244000@turismo.santaisabel.sp.gov.br
SUMMARY:15/11 - 3º DIA - EXPOBEL CIDADE EMPREENDORA 2025
DESCRIPTION:Local: Terminal Rodoviário de Santa Isabel\nInstagram: @expobelsi
URL:https://turismo.santaisabel.sp.gov.br/evento/14-11-3o-dia-expobel-cidade-empreendora-2025/
LOCATION:Terminal Rodoviario\, Terminal Rodoviário\, santa Isabel\, São Paulo\, 07500000\, Brazil
CATEGORIES:Eventos,Feiras,Festas,Shows
ATTACH;FMTTYPE=image/jpeg:https://turismo.santaisabel.sp.gov.br/wp-content/uploads/2025/10/WhatsApp-Image-2025-10-29-at-11.20.49-1.jpeg
END:VEVENT
BEGIN:VEVENT
DTSTART;TZID=America/Sao_Paulo:20251116T130000
DTEND;TZID=America/Sao_Paulo:20251116T220000
DTSTAMP:20260424T043312
CREATED:20251029T153943Z
LAST-MODIFIED:20251029T153943Z
UID:21862-1763298000-1763330400@turismo.santaisabel.sp.gov.br
SUMMARY:16/11 - 4º DIA - EXPOBEL CIDADE EMPREENDORA 2025
DESCRIPTION:Local: Terminal Rodoviário de Santa Isabel\nInstagram: @expobelsi
URL:https://turismo.santaisabel.sp.gov.br/evento/16-11-4o-dia-expobel-cidade-empreendora-2025/
LOCATION:Terminal Rodoviario\, Terminal Rodoviário\, santa Isabel\, São Paulo\, 07500000\, Brazil
CATEGORIES:Eventos,Feiras,Festas,Shows
ATTACH;FMTTYPE=image/jpeg:https://turismo.santaisabel.sp.gov.br/wp-content/uploads/2025/10/WhatsApp-Image-2025-10-29-at-11.20.49-2.jpeg
END:VEVENT
BEGIN:VEVENT
DTSTART;TZID=America/Sao_Paulo:20251206T180000
DTEND;TZID=America/Sao_Paulo:20251206T220000
DTSTAMP:20260424T043312
CREATED:20250116T190823Z
LAST-MODIFIED:20251203T155528Z
UID:21162-1765044000-1765058400@turismo.santaisabel.sp.gov.br
SUMMARY:06/12 - ABERTURA "NATAL ENCANTADO 2025"
DESCRIPTION:PROGRAMAÇÃO - SÁBADO \n\nLOCAL: PRAÇA FERNANDO LOPES (GALERIA)\n\n\n18H - CANTATA DE NATAL - COM A PARTICIPAÇÃO DOS ALUNOS DAS ESCOLAS MUNICIPAIS E ORQUESTRA MUNICIPAL;\n\n\n20H - CHEGADA DO PAPAI NOEL E ABERTURA OFICIAL DA CASINHA DO PAPAI NOEL. \n\nO EVENTO CONTA COM PRAÇA DE ALIMENTAÇÃO COMPOSTA POR EMPREENDEDORES DA CIDADE.
URL:https://turismo.santaisabel.sp.gov.br/evento/natal/
LOCATION:Praça Fernando Lopes (Galeria)\, Praça Fernando Lopes\, Santa Isabel\, São Paulo\, 07500000\, Brazil
CATEGORIES:Eventos,Festas
ATTACH;FMTTYPE=image/jpeg:https://turismo.santaisabel.sp.gov.br/wp-content/uploads/2025/01/WhatsApp-Image-2025-12-03-at-12.30.11.jpeg
END:VEVENT
BEGIN:VEVENT
DTSTART;TZID=America/Sao_Paulo:20251208T080000
DTEND;TZID=America/Sao_Paulo:20251218T170000
DTSTAMP:20260424T043312
CREATED:20251212T143724Z
LAST-MODIFIED:20251212T143724Z
UID:21888-1765180800-1766077200@turismo.santaisabel.sp.gov.br
SUMMARY:07/12 - "NATAL ENCANTADO 2025"
DESCRIPTION:PROGRAMAÇÃO - VISITA A CASA DO PAPAI NOEL \nLOCAL: PRAÇA FERNANDO LOPES (GALERIA)\n\nData: 08/12 a 12/12 - PRESENÇA DA MAMÃE NOEL \n\nPeríodo: das 9h às 12h / 13h às 16h\n\nData: 12\, 13\, 14\, 19\, 20 e 21 - PRESENÇA DO PAPAI NOEL \n\nPeríodo: das 18h às 22h\n\nData: 15/12 a 18/12 - PRESENÇA DA MAMÃE NOEL \n\nPeríodo: das 14h às 18h
URL:https://turismo.santaisabel.sp.gov.br/evento/07-12-natal-encantado-2025/
LOCATION:Praça Fernando Lopes (Galeria)\, Praça Fernando Lopes\, Santa Isabel\, São Paulo\, 07500000\, Brazil
CATEGORIES:Eventos,Feiras
ATTACH;FMTTYPE=image/jpeg:https://turismo.santaisabel.sp.gov.br/wp-content/uploads/2025/01/WhatsApp-Image-2025-12-03-at-12.30.11.jpeg
END:VEVENT
BEGIN:VEVENT
DTSTART;TZID=America/Sao_Paulo:20251214T190000
DTEND;TZID=America/Sao_Paulo:20251214T220000
DTSTAMP:20260424T043312
CREATED:20251212T144939Z
LAST-MODIFIED:20251212T144939Z
UID:21890-1765738800-1765749600@turismo.santaisabel.sp.gov.br
SUMMARY:14/12 - RECITAL DE NATAL
DESCRIPTION:PROGRAMAÇÃO - DOMINGO \n\nApresentação dos alunos da Escola de Música e Exposição dos trabalhos dos alunos de desenho e pintura em tela \n\nLocal: Auditório Dona Ofélia Cianflone (Avenida da República\, 118 - Centro)\nHorário: 19h\n  \n 
URL:https://turismo.santaisabel.sp.gov.br/evento/14-12-recital-de-natal/
LOCATION:São Paulo
CATEGORIES:Eventos
ATTACH;FMTTYPE=image/jpeg:https://turismo.santaisabel.sp.gov.br/wp-content/uploads/2025/12/WhatsApp-Image-2025-12-03-at-12.30.12.jpeg
END:VEVENT
BEGIN:VEVENT
DTSTART;TZID=America/Sao_Paulo:20260106T173000
DTEND;TZID=America/Sao_Paulo:20260106T190000
DTSTAMP:20260424T043312
CREATED:20260130T132548Z
LAST-MODIFIED:20260130T132548Z
UID:21943-1767720600-1767726000@turismo.santaisabel.sp.gov.br
SUMMARY:06/01 - FOLIA DE REIS
DESCRIPTION:
URL:https://turismo.santaisabel.sp.gov.br/evento/06-01-folia-de-reis/
LOCATION:São Paulo
CATEGORIES:Eventos
ATTACH;FMTTYPE=image/jpeg:https://turismo.santaisabel.sp.gov.br/wp-content/uploads/2026/01/WhatsApp-Image-2026-01-30-at-10.24.23.jpeg
END:VEVENT
BEGIN:VEVENT
DTSTART;TZID=America/Sao_Paulo:20260118T080000
DTEND;TZID=America/Sao_Paulo:20260118T140000
DTSTAMP:20260424T043312
CREATED:20260130T132635Z
LAST-MODIFIED:20260130T132635Z
UID:21947-1768723200-1768744800@turismo.santaisabel.sp.gov.br
SUMMARY:18/01 - FESTIVAL DE PIPAS 2026
DESCRIPTION:
URL:https://turismo.santaisabel.sp.gov.br/evento/18-01-festival-de-pipas-2026/
LOCATION:São Paulo
CATEGORIES:Eventos
ATTACH;FMTTYPE=image/jpeg:https://turismo.santaisabel.sp.gov.br/wp-content/uploads/2026/01/WhatsApp-Image-2026-01-30-at-10.24.23-1.jpeg
END:VEVENT
BEGIN:VEVENT
DTSTART;TZID=America/Sao_Paulo:20260208T083000
DTEND;TZID=America/Sao_Paulo:20260208T130000
DTSTAMP:20260424T043312
CREATED:20260130T134413Z
LAST-MODIFIED:20260130T134413Z
UID:21949-1770539400-1770555600@turismo.santaisabel.sp.gov.br
SUMMARY:08/02 - CARNAVAL - FOLIA NO PARQUE "CORPO EM MOVIMENTO"
DESCRIPTION:
URL:https://turismo.santaisabel.sp.gov.br/evento/08-02-carnaval-folia-no-parque-corpo-em-movimento/
LOCATION:São Paulo
CATEGORIES:Eventos
ATTACH;FMTTYPE=image/jpeg:https://turismo.santaisabel.sp.gov.br/wp-content/uploads/2026/01/WhatsApp-Image-2026-01-30-at-10.42.46.jpeg
END:VEVENT
BEGIN:VEVENT
DTSTART;VALUE=DATE:20260214
DTEND;VALUE=DATE:20260215
DTSTAMP:20260424T043312
CREATED:20260130T130913Z
LAST-MODIFIED:20260130T131232Z
UID:21925-1771027200-1771113599@turismo.santaisabel.sp.gov.br
SUMMARY:14/02 - ABERTURA DO CARNAVAL 2026
DESCRIPTION:
URL:https://turismo.santaisabel.sp.gov.br/evento/14-02-abertura-do-carnaval-2026/
LOCATION:São Paulo
CATEGORIES:Eventos,Festas,Shows
ATTACH;FMTTYPE=image/jpeg:https://turismo.santaisabel.sp.gov.br/wp-content/uploads/2026/01/WhatsApp-Image-2026-01-30-at-09.53.15.jpeg
END:VEVENT
BEGIN:VEVENT
DTSTART;VALUE=DATE:20260215
DTEND;VALUE=DATE:20260216
DTSTAMP:20260424T043312
CREATED:20260130T131131Z
LAST-MODIFIED:20260130T131339Z
UID:21931-1771113600-1771199999@turismo.santaisabel.sp.gov.br
SUMMARY:15/02 - CARNAVAL 2026
DESCRIPTION:
URL:https://turismo.santaisabel.sp.gov.br/evento/15-02-carnaval-2026/
LOCATION:São Paulo
CATEGORIES:Eventos,Festas,Shows
ATTACH;FMTTYPE=image/jpeg:https://turismo.santaisabel.sp.gov.br/wp-content/uploads/2026/01/WhatsApp-Image-2026-01-30-at-09.53.15-1.jpeg
END:VEVENT
BEGIN:VEVENT
DTSTART;VALUE=DATE:20260216
DTEND;VALUE=DATE:20260217
DTSTAMP:20260424T043312
CREATED:20260130T131620Z
LAST-MODIFIED:20260130T131934Z
UID:21935-1771200000-1771286399@turismo.santaisabel.sp.gov.br
SUMMARY:16/02 - CARNAVAL 2026
DESCRIPTION:
URL:https://turismo.santaisabel.sp.gov.br/evento/16-02-carnaval-2026/
LOCATION:São Paulo
CATEGORIES:Eventos,Festas,Shows
ATTACH;FMTTYPE=image/jpeg:https://turismo.santaisabel.sp.gov.br/wp-content/uploads/2026/01/WhatsApp-Image-2026-01-30-at-09.53.15-2.jpeg
END:VEVENT
BEGIN:VEVENT
DTSTART;VALUE=DATE:20260217
DTEND;VALUE=DATE:20260218
DTSTAMP:20260424T043312
CREATED:20260130T131655Z
LAST-MODIFIED:20260130T131806Z
UID:21937-1771286400-1771372799@turismo.santaisabel.sp.gov.br
SUMMARY:17/02 - CARNAVAL 2026
DESCRIPTION:
URL:https://turismo.santaisabel.sp.gov.br/evento/17-02-carnaval-2026/
LOCATION:São Paulo
CATEGORIES:Eventos,Festas,Shows
ATTACH;FMTTYPE=image/jpeg:https://turismo.santaisabel.sp.gov.br/wp-content/uploads/2026/01/WhatsApp-Image-2026-01-30-at-09.53.15-3.jpeg
END:VEVENT
BEGIN:VEVENT
DTSTART;TZID=America/Sao_Paulo:20260315T120000
DTEND;TZID=America/Sao_Paulo:20260315T170000
DTSTAMP:20260424T043312
CREATED:20260226T190050Z
LAST-MODIFIED:20260226T190050Z
UID:21961-1773576000-1773594000@turismo.santaisabel.sp.gov.br
SUMMARY:15/03 - CAVALGADA VILLA JACKSON'S BAR
DESCRIPTION:1ª CAVALGADA DO ANO \nPonto de saída: Terminal Rodoviário \nPrevisão de saída: 12h \nA cavalgada percorrerá a avenida principal\, finalizando no Villa Jackson’s Bar (Lanifício Esporte Clube).
URL:https://turismo.santaisabel.sp.gov.br/evento/15-03-cavalgada-villa-jacksons-bar/
LOCATION:São Paulo
CATEGORIES:Eventos
END:VEVENT
BEGIN:VEVENT
DTSTART;VALUE=DATE:20260322
DTEND;VALUE=DATE:20260323
DTSTAMP:20260424T043312
CREATED:20260226T185114Z
LAST-MODIFIED:20260226T185114Z
UID:21958-1774137600-1774223999@turismo.santaisabel.sp.gov.br
SUMMARY:22/03 - CORRIDA E CAMINHADA ROSA RÚSTICA 6K E 12K
DESCRIPTION:
URL:https://turismo.santaisabel.sp.gov.br/evento/22-03-corrida-e-caminhada-rosa-rustica-6k-e-12k/
LOCATION:São Paulo
CATEGORIES:Eventos
ATTACH;FMTTYPE=image/jpeg:https://turismo.santaisabel.sp.gov.br/wp-content/uploads/2026/02/WhatsApp-Image-2026-02-26-at-15.44.09.jpeg
END:VEVENT
BEGIN:VEVENT
DTSTART;TZID=America/Sao_Paulo:20260709T080000
DTEND;TZID=America/Sao_Paulo:20260712T170000
DTSTAMP:20260424T043312
CREATED:20260226T190319Z
LAST-MODIFIED:20260226T190319Z
UID:21963-1783584000-1783875600@turismo.santaisabel.sp.gov.br
SUMMARY:09 A 12 DE JULHO - FESTIVIDADES EM COMEMORAÇÃO AO ANIVERSÁRIO DA CIDADE
DESCRIPTION:EM BREVE PROGRAMAÇÃO COMPLETA! 
URL:https://turismo.santaisabel.sp.gov.br/evento/09-a-12-de-julho-festividades-em-comemoracao-ao-aniversario-da-cidade/
LOCATION:Terminal Rodoviario\, Terminal Rodoviário\, santa Isabel\, São Paulo\, 07500000\, Brazil
CATEGORIES:Eventos,Festas,Shows
END:VEVENT
END:VCALENDAR