BEGIN:VCALENDAR
VERSION:2.0
PRODID:-//Guia da Cidade - ECPv6.15.17//NONSGML v1.0//EN
CALSCALE:GREGORIAN
METHOD:PUBLISH
X-WR-CALNAME:Guia da Cidade
X-ORIGINAL-URL:https://turismo.santaisabel.sp.gov.br
X-WR-CALDESC:Eventos para Guia da Cidade
REFRESH-INTERVAL;VALUE=DURATION:PT1H
X-Robots-Tag:noindex
X-PUBLISHED-TTL:PT1H
BEGIN:VTIMEZONE
TZID:America/Sao_Paulo
BEGIN:STANDARD
TZOFFSETFROM:-0300
TZOFFSETTO:-0300
TZNAME:-03
DTSTART:20240101T000000
END:STANDARD
END:VTIMEZONE
BEGIN:VEVENT
DTSTART;TZID=America/Sao_Paulo:20251116T130000
DTEND;TZID=America/Sao_Paulo:20251116T220000
DTSTAMP:20260423T172347
CREATED:20251029T153943Z
LAST-MODIFIED:20251029T153943Z
UID:21862-1763298000-1763330400@turismo.santaisabel.sp.gov.br
SUMMARY:16/11 - 4º DIA - EXPOBEL CIDADE EMPREENDORA 2025
DESCRIPTION:Local: Terminal Rodoviário de Santa Isabel\nInstagram: @expobelsi
URL:https://turismo.santaisabel.sp.gov.br/evento/16-11-4o-dia-expobel-cidade-empreendora-2025/
LOCATION:Terminal Rodoviario\, Terminal Rodoviário\, santa Isabel\, São Paulo\, 07500000\, Brazil
CATEGORIES:Eventos,Feiras,Festas,Shows
ATTACH;FMTTYPE=image/jpeg:https://turismo.santaisabel.sp.gov.br/wp-content/uploads/2025/10/WhatsApp-Image-2025-10-29-at-11.20.49-2.jpeg
END:VEVENT
BEGIN:VEVENT
DTSTART;TZID=America/Sao_Paulo:20251115T130000
DTEND;TZID=America/Sao_Paulo:20251115T220000
DTSTAMP:20260423T172347
CREATED:20251029T153441Z
LAST-MODIFIED:20251029T153631Z
UID:21854-1763211600-1763244000@turismo.santaisabel.sp.gov.br
SUMMARY:15/11 - 3º DIA - EXPOBEL CIDADE EMPREENDORA 2025
DESCRIPTION:Local: Terminal Rodoviário de Santa Isabel\nInstagram: @expobelsi
URL:https://turismo.santaisabel.sp.gov.br/evento/14-11-3o-dia-expobel-cidade-empreendora-2025/
LOCATION:Terminal Rodoviario\, Terminal Rodoviário\, santa Isabel\, São Paulo\, 07500000\, Brazil
CATEGORIES:Eventos,Feiras,Festas,Shows
ATTACH;FMTTYPE=image/jpeg:https://turismo.santaisabel.sp.gov.br/wp-content/uploads/2025/10/WhatsApp-Image-2025-10-29-at-11.20.49-1.jpeg
END:VEVENT
BEGIN:VEVENT
DTSTART;TZID=America/Sao_Paulo:20251114T130000
DTEND;TZID=America/Sao_Paulo:20251114T220000
DTSTAMP:20260423T172347
CREATED:20251029T153158Z
LAST-MODIFIED:20251029T153158Z
UID:21852-1763125200-1763157600@turismo.santaisabel.sp.gov.br
SUMMARY:14/11 - 2º DIA - EXPOBEL CIDADE EMPREENDORA 2025
DESCRIPTION:Local: Terminal Rodoviário de Santa Isabel\nInstagram: @expobelsi
URL:https://turismo.santaisabel.sp.gov.br/evento/14-11-2o-dia-expobel-cidade-empreendora-2025/
LOCATION:Terminal Rodoviario\, Terminal Rodoviário\, santa Isabel\, São Paulo\, 07500000\, Brazil
CATEGORIES:Eventos,Feiras,Festas,Shows
ATTACH;FMTTYPE=image/jpeg:https://turismo.santaisabel.sp.gov.br/wp-content/uploads/2025/10/WhatsApp-Image-2025-10-29-at-11.20.49.jpeg
END:VEVENT
BEGIN:VEVENT
DTSTART;TZID=America/Sao_Paulo:20251113T130000
DTEND;TZID=America/Sao_Paulo:20251116T220000
DTSTAMP:20260423T172347
CREATED:20251008T203042Z
LAST-MODIFIED:20251029T152442Z
UID:21759-1763038800-1763330400@turismo.santaisabel.sp.gov.br
SUMMARY:EXPOBEL - CIDADE EMPREENDEDORA 2025
DESCRIPTION:  \n  \n 
URL:https://turismo.santaisabel.sp.gov.br/evento/expobel/
LOCATION:Terminal Rodoviario\, Terminal Rodoviário\, santa Isabel\, São Paulo\, 07500000\, Brazil
CATEGORIES:Eventos,Feiras,Festas,Shows
ATTACH;FMTTYPE=image/jpeg:https://turismo.santaisabel.sp.gov.br/wp-content/uploads/2025/10/WhatsApp-Image-2025-10-29-at-11.20.48.jpeg
END:VEVENT
BEGIN:VEVENT
DTSTART;TZID=America/Sao_Paulo:20251113T130000
DTEND;TZID=America/Sao_Paulo:20251113T220000
DTSTAMP:20260423T172347
CREATED:20251029T152025Z
LAST-MODIFIED:20251029T152118Z
UID:21845-1763038800-1763071200@turismo.santaisabel.sp.gov.br
SUMMARY:13/11 - 1º DIA - EXPOBEL CIDADE EMPREENDORA 2025
DESCRIPTION:Local: Terminal Rodoviário de Santa Isabel\nInstagram: @expobelsi\n  \n 
URL:https://turismo.santaisabel.sp.gov.br/evento/13-11-1o-dia-expobel-cidade-empreendora-2025/
LOCATION:Terminal Rodoviario\, Terminal Rodoviário\, santa Isabel\, São Paulo\, 07500000\, Brazil
CATEGORIES:Eventos,Feiras,Festas,Shows
ATTACH;FMTTYPE=image/jpeg:https://turismo.santaisabel.sp.gov.br/wp-content/uploads/2025/10/WhatsApp-Image-2025-10-29-at-11.20.48-1.jpeg
END:VEVENT
BEGIN:VEVENT
DTSTART;VALUE=DATE:20251024
DTEND;VALUE=DATE:20251025
DTSTAMP:20260423T172347
CREATED:20251008T203505Z
LAST-MODIFIED:20251008T203505Z
UID:21768-1761264000-1761350399@turismo.santaisabel.sp.gov.br
SUMMARY:FESTA NORDESTINA
DESCRIPTION:
URL:https://turismo.santaisabel.sp.gov.br/evento/festa-nordestina-2/
LOCATION:Praça da Bandeira\, Praça da Bandeira\, Santa Isabel\, São Paulo\, 07500-000\, Brazil
CATEGORIES:Eventos,Festas
END:VEVENT
BEGIN:VEVENT
DTSTART;VALUE=DATE:20251007
DTEND;VALUE=DATE:20251008
DTSTAMP:20260423T172347
CREATED:20250325T150332Z
LAST-MODIFIED:20250325T150427Z
UID:21346-1759795200-1759881599@turismo.santaisabel.sp.gov.br
SUMMARY:300 ANOS DA IGREJA DO ROSÁRIO
DESCRIPTION:Comemoração de aniversário de 300 anos da Igreja do Rosário\, uma das igrejas mais antiga  do Alto Tiête. \n  \n  \n📅 7 de outubro de 2025\n📍Praça da Bandeira – Parque Santa Tereza
URL:https://turismo.santaisabel.sp.gov.br/evento/300-anos-da-igreja-do-rosario/
END:VEVENT
BEGIN:VEVENT
DTSTART;TZID=America/Sao_Paulo:20250907T103000
DTEND;TZID=America/Sao_Paulo:20250907T140000
DTSTAMP:20260423T172347
CREATED:20250522T165444Z
LAST-MODIFIED:20250522T165444Z
UID:21675-1757241000-1757253600@turismo.santaisabel.sp.gov.br
SUMMARY:ALMOÇO\, BINGO E CANTINA - PARÓQUIA SANTA TERESA
DESCRIPTION:Data: 07 de Setembro de 2025 – Domingo \nHorário: 10h30 às 14h \nLocal: Capela N. Srª. Das Brotas (Rua Chico Marvina\, s/n – Brotas) \nOrganização: Paróquia Santa Teresa D’Ávila \n 
URL:https://turismo.santaisabel.sp.gov.br/evento/almoco-bingo-e-cantina-paroquia-santa-teresa/
CATEGORIES:Eventos,Festas
END:VEVENT
BEGIN:VEVENT
DTSTART;VALUE=DATE:20250831
DTEND;VALUE=DATE:20250901
DTSTAMP:20260423T172347
CREATED:20250522T150007Z
LAST-MODIFIED:20250522T150007Z
UID:21673-1756598400-1756684799@turismo.santaisabel.sp.gov.br
SUMMARY:QUERMESSE - FESTA DA PADROEIRA
DESCRIPTION:Data: 31 de Agosto de 2025 – domingo \nHorário: 18h \nLocal: Matriz Santa Teresa D’Ávila (Rua Agenor Rocha de Araujo\, 277 – Jd. Vista Verde) \nOrganização: Paróquia Santa Teresa D’Ávila 
URL:https://turismo.santaisabel.sp.gov.br/evento/quermesse-festa-da-padroeira-4/
CATEGORIES:Eventos,Festas,Shows
END:VEVENT
BEGIN:VEVENT
DTSTART;VALUE=DATE:20250830
DTEND;VALUE=DATE:20250831
DTSTAMP:20260423T172347
CREATED:20250522T145839Z
LAST-MODIFIED:20250522T145839Z
UID:21671-1756512000-1756598399@turismo.santaisabel.sp.gov.br
SUMMARY:QUERMESSE - FESTA DA PADROEIRA
DESCRIPTION:Data: 30 de Agosto de 2025 – Sábado \nHorário: 18h \nLocal: Matriz Santa Teresa D’Ávila (Rua Agenor Rocha de Araujo\, 277 – Jd. Vista Verde) \nOrganização: Paróquia Santa Teresa D’Ávila 
URL:https://turismo.santaisabel.sp.gov.br/evento/quermesse-festa-da-padroeira-3/
CATEGORIES:Eventos,Festas,Shows
END:VEVENT
BEGIN:VEVENT
DTSTART;VALUE=DATE:20250825
DTEND;VALUE=DATE:20250826
DTSTAMP:20260423T172347
CREATED:20250522T145645Z
LAST-MODIFIED:20250522T145645Z
UID:21669-1756080000-1756166399@turismo.santaisabel.sp.gov.br
SUMMARY:FESTIVAL DE ATLETISMO
DESCRIPTION:Data: 25 de Agosto de 2025 – segunda-feira \nHorário: Período da manhã e tarde \nLocal: Parque Municipal de Santa Isabel (R. Pres. Castelo Branco\, 305 – Recanto No Céu) \nOrganização: Secretaria de Esporte e Lazer
URL:https://turismo.santaisabel.sp.gov.br/evento/festival-de-atletismo-6/
CATEGORIES:Eventos
END:VEVENT
BEGIN:VEVENT
DTSTART;VALUE=DATE:20250824
DTEND;VALUE=DATE:20250825
DTSTAMP:20260423T172347
CREATED:20250522T145410Z
LAST-MODIFIED:20250617T123423Z
UID:21667-1755993600-1756079999@turismo.santaisabel.sp.gov.br
SUMMARY:COSTELA NO CHÃO
DESCRIPTION:Data: 24 de Agosto de 2025 – Domingo \nHorário de Inicio: 12h \nLocal: Igreja São José Operário (Rua João Menino Barbosa\, 222 – Jardim Eldorado) \nOrganização: Paróquia Nossa Senhora Aparecida \n 
URL:https://turismo.santaisabel.sp.gov.br/evento/costela-no-chao/
CATEGORIES:Eventos,Festas
END:VEVENT
BEGIN:VEVENT
DTSTART;VALUE=DATE:20250824
DTEND;VALUE=DATE:20250825
DTSTAMP:20260423T172347
CREATED:20250522T145121Z
LAST-MODIFIED:20250522T145121Z
UID:21665-1755993600-1756079999@turismo.santaisabel.sp.gov.br
SUMMARY:FESTIVAL DE ATLETISMO
DESCRIPTION:Data: 24 de Agosto de 2025 – Domingo \nHorário: Período da manhã e tarde \nLocal: Parque Municipal de Santa Isabel (R. Pres. Castelo Branco\, 305 – Recanto No Céu) \nOrganização: Secretaria de Esporte e Lazer
URL:https://turismo.santaisabel.sp.gov.br/evento/festival-de-atletismo-5/
CATEGORIES:Eventos
END:VEVENT
BEGIN:VEVENT
DTSTART;VALUE=DATE:20250824
DTEND;VALUE=DATE:20250825
DTSTAMP:20260423T172347
CREATED:20250522T144906Z
LAST-MODIFIED:20250522T144906Z
UID:21663-1755993600-1756079999@turismo.santaisabel.sp.gov.br
SUMMARY:QUERMESSE - FESTA DA PADROEIRA
DESCRIPTION:Data: 24 de Agosto de 2025 – Domingo \nHorário: 18h \nLocal: Matriz Santa Teresa D’Ávila (Rua Agenor Rocha de Araujo\, 277 – Jd. Vista Verde) \nOrganização: Paróquia Santa Teresa D’Ávila 
URL:https://turismo.santaisabel.sp.gov.br/evento/quermesse-festa-da-padroeira-2/
CATEGORIES:Eventos,Festas
END:VEVENT
BEGIN:VEVENT
DTSTART;VALUE=DATE:20250823
DTEND;VALUE=DATE:20250824
DTSTAMP:20260423T172347
CREATED:20250522T144721Z
LAST-MODIFIED:20250522T144721Z
UID:21661-1755907200-1755993599@turismo.santaisabel.sp.gov.br
SUMMARY:FESTIVAL DE ATLETISMO
DESCRIPTION:Data: 22 de Agosto de 2025 – sexta-feira \nHorário: Período da manhã e tarde \nLocal: Parque Municipal de Santa Isabel (R. Pres. Castelo Branco\, 305 – Recanto No Céu) \nOrganização: Secretaria de Esporte e Lazer
URL:https://turismo.santaisabel.sp.gov.br/evento/festival-de-atletismo-4/
CATEGORIES:Eventos
END:VEVENT
BEGIN:VEVENT
DTSTART;VALUE=DATE:20250823
DTEND;VALUE=DATE:20250824
DTSTAMP:20260423T172347
CREATED:20250522T130039Z
LAST-MODIFIED:20250522T143837Z
UID:21619-1755907200-1755993599@turismo.santaisabel.sp.gov.br
SUMMARY:QUERMESSE - FESTA DA PADROEIRA
DESCRIPTION:Data: 23 de Agosto de 2025 – Sábado \nHorário: 18h \nLocal: Matriz Santa Teresa D’Ávila (Rua Agenor Rocha de Araujo\, 277 – Jd. Vista Verde) \nOrganização: Paróquia Santa Teresa D’Ávila 
URL:https://turismo.santaisabel.sp.gov.br/evento/quermesse-festa-da-padroeira/
CATEGORIES:Eventos,Festas
END:VEVENT
BEGIN:VEVENT
DTSTART;VALUE=DATE:20250821
DTEND;VALUE=DATE:20250822
DTSTAMP:20260423T172347
CREATED:20250521T150114Z
LAST-MODIFIED:20250521T150114Z
UID:21614-1755734400-1755820799@turismo.santaisabel.sp.gov.br
SUMMARY:FESTIVAL DE ATLETISMO
DESCRIPTION:Data: 21 de Agosto de 2025 \nHorário: Período da manhã e tarde \nLocal: Parque Municipal de Santa Isabel (R. Pres. Castelo Branco\, 305 – Recanto No Céu) \nOrganização: Secretaria de Esporte e Lazer
URL:https://turismo.santaisabel.sp.gov.br/evento/festival-de-atletismo/
CATEGORIES:Eventos
END:VEVENT
BEGIN:VEVENT
DTSTART;VALUE=DATE:20250819
DTEND;VALUE=DATE:20250820
DTSTAMP:20260423T172347
CREATED:20250521T145638Z
LAST-MODIFIED:20250521T145638Z
UID:21612-1755561600-1755647999@turismo.santaisabel.sp.gov.br
SUMMARY:CAVALGADA - DIA DO CAVALO
DESCRIPTION:Data: 19 de Agosto de 2025 – Terça-feira \nHorário: 08h \nOrganização: Secretaria Municipal de Arte e Cultura
URL:https://turismo.santaisabel.sp.gov.br/evento/cavalgada-dia-do-cavalo/
CATEGORIES:Eventos
END:VEVENT
BEGIN:VEVENT
DTSTART;VALUE=DATE:20250817
DTEND;VALUE=DATE:20250818
DTSTAMP:20260423T172347
CREATED:20250521T134132Z
LAST-MODIFIED:20250521T134132Z
UID:21610-1755388800-1755475199@turismo.santaisabel.sp.gov.br
SUMMARY:QUERMESSE E BINGO - CAPELA SÃO ROQUE
DESCRIPTION:Data: 17 de Agosto de 2025 – Domingo \nHorário: 18h \nLocal: Capela São Roque – Estrada da Pedra Branca\, km 2 – Bairro: Ouro Fino \nOrganização: Paróquia Santa Teresa D’Ávila \n 
URL:https://turismo.santaisabel.sp.gov.br/evento/quermesse-e-bingo-capela-sao-roque/
CATEGORIES:Festas
END:VEVENT
BEGIN:VEVENT
DTSTART;TZID=America/Sao_Paulo:20250811T170000
DTEND;TZID=America/Sao_Paulo:20250813T220000
DTSTAMP:20260423T172347
CREATED:20220808T114622Z
LAST-MODIFIED:20250508T192034Z
UID:19976-1754931600-1755122400@turismo.santaisabel.sp.gov.br
SUMMARY:ARRAIÁ DO CHICO
DESCRIPTION:Festa Caipira tradicional da cidade\, com praça de alimentação e apresentações musicais \nData: 11 a 13 de agosto de 2025 \nLocal:  Praça Fernando Lopes \nHorário: 17h
URL:https://turismo.santaisabel.sp.gov.br/evento/arraia-do-chico/
CATEGORIES:Eventos,Feiras,Festas,Shows
END:VEVENT
BEGIN:VEVENT
DTSTART;TZID=America/Sao_Paulo:20250810T190000
DTEND;TZID=America/Sao_Paulo:20250810T220000
DTSTAMP:20260423T172347
CREATED:20250508T191557Z
LAST-MODIFIED:20250508T191557Z
UID:21583-1754852400-1754863200@turismo.santaisabel.sp.gov.br
SUMMARY:DIA DOS PAIS
DESCRIPTION:Data: 10 de agosto de 2025 \nLocal: Igreja Nossa Senhora Aparecida – Rua Barão do Rio Brancoo\, 400. \nHorário: 19h
URL:https://turismo.santaisabel.sp.gov.br/evento/dia-dos-pais/
END:VEVENT
BEGIN:VEVENT
DTSTART;TZID=America/Sao_Paulo:20250809T180000
DTEND;TZID=America/Sao_Paulo:20250810T220000
DTSTAMP:20260423T172347
CREATED:20250508T181510Z
LAST-MODIFIED:20250508T183017Z
UID:21573-1754762400-1754863200@turismo.santaisabel.sp.gov.br
SUMMARY:FESTA DE BOM JESUS
DESCRIPTION:Data: 9 e 10 de agosto de 2025 \nLocal:  Capela de Bom Jesus – Rua José Moreno Mostazzo\, 194\, Vila Guilherme. \nHorário: 18h
URL:https://turismo.santaisabel.sp.gov.br/evento/festa-de-bom-jesus-3/
END:VEVENT
BEGIN:VEVENT
DTSTART;TZID=America/Sao_Paulo:20250808T080000
DTEND;TZID=America/Sao_Paulo:20250810T170000
DTSTAMP:20260423T172347
CREATED:20250508T183551Z
LAST-MODIFIED:20250508T185814Z
UID:21575-1754640000-1754845200@turismo.santaisabel.sp.gov.br
SUMMARY:11ª CAMINHADA SHALON
DESCRIPTION:Data: 8 a 10 de agosto de 2025 \nLocal:  Igreja Nossa Senhora Aparecida – Rua Barão do Rio Branco\, 400. \nHorário: 
URL:https://turismo.santaisabel.sp.gov.br/evento/semana-do-folclore/
END:VEVENT
BEGIN:VEVENT
DTSTART;TZID=America/Sao_Paulo:20250806T180000
DTEND;TZID=America/Sao_Paulo:20250806T220000
DTSTAMP:20260423T172347
CREATED:20250508T174707Z
LAST-MODIFIED:20250508T180836Z
UID:21571-1754503200-1754517600@turismo.santaisabel.sp.gov.br
SUMMARY:FESTA DE BOM JESUS
DESCRIPTION:Data: 6 de agosto de 2025 \nLocal:  Capela de Bom Jesus – Rua José Moreno Mostazzo\, 194\, Vila Guilherme. \nHorário: 18h
URL:https://turismo.santaisabel.sp.gov.br/evento/festa-de-bom-jesus-2/
END:VEVENT
BEGIN:VEVENT
DTSTART;TZID=America/Sao_Paulo:20250802T180000
DTEND;TZID=America/Sao_Paulo:20250803T220000
DTSTAMP:20260423T172347
CREATED:20250508T173436Z
LAST-MODIFIED:20250508T174601Z
UID:21568-1754157600-1754258400@turismo.santaisabel.sp.gov.br
SUMMARY:FESTA DE BOM JESUS
DESCRIPTION:Data: De 2 a 3 de agosto de 2025 \nLocal:  Capela de Bom Jesus – Rua José MOreno Mostazzo\, 194\, Vila Guilherme. \nHorário: 18h
URL:https://turismo.santaisabel.sp.gov.br/evento/festa-de-bom-jesus/
END:VEVENT
BEGIN:VEVENT
DTSTART;TZID=America/Sao_Paulo:20250801T080000
DTEND;TZID=America/Sao_Paulo:20250806T170000
DTSTAMP:20260423T172347
CREATED:20250508T170124Z
LAST-MODIFIED:20250508T170124Z
UID:21566-1754035200-1754499600@turismo.santaisabel.sp.gov.br
SUMMARY:SEMANA DA CAPOEIRA
DESCRIPTION:Data: De 1 a 6 de agosto de 2025 \nLocal:  Centro Cultural – Av. República\, 118\, Centro. \nHorário: Na parte da tarde
URL:https://turismo.santaisabel.sp.gov.br/evento/semana-da-capoeira/
END:VEVENT
BEGIN:VEVENT
DTSTART;TZID=America/Sao_Paulo:20250725T070000
DTEND;TZID=America/Sao_Paulo:20250727T170000
DTSTAMP:20260423T172347
CREATED:20250508T143003Z
LAST-MODIFIED:20250508T143014Z
UID:21564-1753426800-1753635600@turismo.santaisabel.sp.gov.br
SUMMARY:ECC- ENCONTRO DE CASAIS - PARÓQUIA NOSSA SENHORA APARECIDA
DESCRIPTION:Data: De 25 a 27 de julho de 2025 \nLocal:  EMEB Pref. Waldir José Cabral Saueia – Rua das Rosas\, 780\, Jd. Novo Éden. \nHorário: 07h
URL:https://turismo.santaisabel.sp.gov.br/evento/ecc-encontro-de-casais-paroquia-nossa-senhora-aparecida/
END:VEVENT
BEGIN:VEVENT
DTSTART;TZID=America/Sao_Paulo:20250713T113000
DTEND;TZID=America/Sao_Paulo:20250713T170000
DTSTAMP:20260423T172347
CREATED:20250506T170602Z
LAST-MODIFIED:20250506T170608Z
UID:21553-1752406200-1752426000@turismo.santaisabel.sp.gov.br
SUMMARY:ALMOÇO BINGO E CANTINA - CAPELA SÃO BENTO
DESCRIPTION:Data: 13 de julho de 2025 \nLocal: Capela São Bento  – Estrada do Pouso Alegre\, Pouso Alegre. \nHorário: 11h30
URL:https://turismo.santaisabel.sp.gov.br/evento/almoco-bingo-e-cantina-capela-sao-bento/
END:VEVENT
BEGIN:VEVENT
DTSTART;TZID=America/Sao_Paulo:20250713T080000
DTEND;TZID=America/Sao_Paulo:20250713T200000
DTSTAMP:20260423T172347
CREATED:20250508T141304Z
LAST-MODIFIED:20250508T142211Z
UID:21562-1752393600-1752436800@turismo.santaisabel.sp.gov.br
SUMMARY:CONFABAN
DESCRIPTION:Data: 13 de julho de 2025 \nLocal:  Av. República\, Centro. \nHorário: 08h
URL:https://turismo.santaisabel.sp.gov.br/evento/confaban-2/
END:VEVENT
BEGIN:VEVENT
DTSTART;VALUE=DATE:20250712
DTEND;VALUE=DATE:20250713
DTSTAMP:20260423T172347
CREATED:20250617T141049Z
LAST-MODIFIED:20250617T141049Z
UID:21728-1752278400-1752364799@turismo.santaisabel.sp.gov.br
SUMMARY:BINGO\, CAVALHADA E CANTINA – CAPELA SÃO BENTO
DESCRIPTION:Data: 12 de julho de 2025\nHorário de inicio: 13h \n\n\nLocal: Capela São Bento  – Estrada do Pouso Alegre – Bairro: Pouso Alegre. \n 
URL:https://turismo.santaisabel.sp.gov.br/evento/bingo-cavalhada-e-cantina-capela-sao-bento/
CATEGORIES:Eventos,Festas,Shows
END:VEVENT
END:VCALENDAR