BEGIN:VCALENDAR
VERSION:2.0
PRODID:-//Guia da Cidade - ECPv6.15.17//NONSGML v1.0//EN
CALSCALE:GREGORIAN
METHOD:PUBLISH
X-WR-CALNAME:Guia da Cidade
X-ORIGINAL-URL:https://turismo.santaisabel.sp.gov.br
X-WR-CALDESC:Eventos para Guia da Cidade
REFRESH-INTERVAL;VALUE=DURATION:PT1H
X-Robots-Tag:noindex
X-PUBLISHED-TTL:PT1H
BEGIN:VTIMEZONE
TZID:America/Sao_Paulo
BEGIN:STANDARD
TZOFFSETFROM:-0300
TZOFFSETTO:-0300
TZNAME:-03
DTSTART:20240101T000000
END:STANDARD
END:VTIMEZONE
BEGIN:VEVENT
DTSTART;TZID=America/Sao_Paulo:20250607T180000
DTEND;TZID=America/Sao_Paulo:20250608T220000
DTSTAMP:20260424T070955
CREATED:20250429T145838Z
LAST-MODIFIED:20250430T173316Z
UID:21492-1749319200-1749420000@turismo.santaisabel.sp.gov.br
SUMMARY:FESTA DO DIVINO
DESCRIPTION:Data: 7 de junho de 2025 \nLocal: Igreja Nossa Senhora Aparecida – Rua Barão do Rio Branco\,400 \nHorário: 18h00
URL:https://turismo.santaisabel.sp.gov.br/evento/festa-do-divino/
LOCATION:São Paulo
END:VEVENT
BEGIN:VEVENT
DTSTART;TZID=America/Sao_Paulo:20250608T180000
DTEND;TZID=America/Sao_Paulo:20250608T220000
DTSTAMP:20260424T070955
CREATED:20250430T173339Z
LAST-MODIFIED:20250430T173355Z
UID:21505-1749405600-1749420000@turismo.santaisabel.sp.gov.br
SUMMARY:FESTA DO DIVINO
DESCRIPTION:Data: 8 de junho de 2025 \nLocal: Igreja Nossa Senhora Aparecida – Rua Barão do Rio Branco\,400 \nHorário: 18h00
URL:https://turismo.santaisabel.sp.gov.br/evento/festa-do-divino-4/
LOCATION:São Paulo
END:VEVENT
BEGIN:VEVENT
DTSTART;TZID=America/Sao_Paulo:20250614T180000
DTEND;TZID=America/Sao_Paulo:20250614T220000
DTSTAMP:20260424T070955
CREATED:20250429T150034Z
LAST-MODIFIED:20250430T173227Z
UID:21494-1749924000-1749938400@turismo.santaisabel.sp.gov.br
SUMMARY:FESTA DO DIVINO
DESCRIPTION:Data: 14 de junho de 2025 \nLocal: Igreja Nossa Senhora Aparecida – Rua Barão do Rio Branco\,400 \nHorário: 18h00
URL:https://turismo.santaisabel.sp.gov.br/evento/festa-do-divino-2/
LOCATION:São Paulo
END:VEVENT
BEGIN:VEVENT
DTSTART;TZID=America/Sao_Paulo:20250615T080000
DTEND;TZID=America/Sao_Paulo:20250615T220000
DTSTAMP:20260424T070955
CREATED:20250428T142841Z
LAST-MODIFIED:20250428T142923Z
UID:21442-1749974400-1750024800@turismo.santaisabel.sp.gov.br
SUMMARY:CIRCUITO NACIONAL DE JIU-JITSU
DESCRIPTION:Data: 15 de junho de 2025\nHorário: 08h\nLocal: Ginásio de Esportes Francisco de Souza
URL:https://turismo.santaisabel.sp.gov.br/evento/circuito-nacional-de-jiu-jitsu/
LOCATION:São Paulo
END:VEVENT
BEGIN:VEVENT
DTSTART;TZID=America/Sao_Paulo:20250615T180000
DTEND;TZID=America/Sao_Paulo:20250615T220000
DTSTAMP:20260424T070955
CREATED:20250430T172856Z
LAST-MODIFIED:20250430T172856Z
UID:21496-1750010400-1750024800@turismo.santaisabel.sp.gov.br
SUMMARY:FESTA DO DIVINO
DESCRIPTION:Data: 15 de junho de 2025 \nLocal: Igreja Nossa Senhora Aparecida – Rua Barão do Rio Branco\,400 \nHorário: 18h00
URL:https://turismo.santaisabel.sp.gov.br/evento/festa-do-divino-3/
LOCATION:São Paulo
END:VEVENT
BEGIN:VEVENT
DTSTART;TZID=America/Sao_Paulo:20250619T060000
DTEND;TZID=America/Sao_Paulo:20250619T170000
DTSTAMP:20260424T070955
CREATED:20250116T190401Z
LAST-MODIFIED:20250325T144711Z
UID:21156-1750312800-1750352400@turismo.santaisabel.sp.gov.br
SUMMARY:CORPUS CHRISTI - TAPETES
DESCRIPTION:Confecção dos tapetes em homenagem ao feriado de Corpus Christi. \n📅 19 de junho de 2025\n📍 Avenida República.\n🕘 06h às 17h \n 
URL:https://turismo.santaisabel.sp.gov.br/evento/corpus-christi-tapetes/
LOCATION:São Paulo
END:VEVENT
BEGIN:VEVENT
DTSTART;TZID=America/Sao_Paulo:20250619T180000
DTEND;TZID=America/Sao_Paulo:20250619T220000
DTSTAMP:20260424T070955
CREATED:20250506T131935Z
LAST-MODIFIED:20250506T131935Z
UID:21517-1750356000-1750370400@turismo.santaisabel.sp.gov.br
SUMMARY:CORPUS CHRISTI - PROCISSÃO
DESCRIPTION:Data: 19 de junho de 2025 \nLocal:  Igreja Nossa Senhora Aparecida – Rua Barão do Rio Branco\,400. (Saída) \nHorário: 18h00
URL:https://turismo.santaisabel.sp.gov.br/evento/corpus-christi-procissao/
LOCATION:São Paulo
END:VEVENT
BEGIN:VEVENT
DTSTART;TZID=America/Sao_Paulo:20250621T160000
DTEND;TZID=America/Sao_Paulo:20250621T180000
DTSTAMP:20260424T070955
CREATED:20250506T133314Z
LAST-MODIFIED:20250506T133314Z
UID:21519-1750521600-1750528800@turismo.santaisabel.sp.gov.br
SUMMARY:KIDS RUN
DESCRIPTION:Data: 21 de junho de 2025 \nLocal:  Parque Municipal “Manoel Rodrigues de Paula” – Rua Pres. Castelo Branco\, s/n\, Jd. Monte Serrat. \nHorário: 16h00
URL:https://turismo.santaisabel.sp.gov.br/evento/kids-run/
LOCATION:São Paulo
END:VEVENT
BEGIN:VEVENT
DTSTART;TZID=America/Sao_Paulo:20250621T183000
DTEND;TZID=America/Sao_Paulo:20250621T220000
DTSTAMP:20260424T070955
CREATED:20250506T133940Z
LAST-MODIFIED:20250506T133940Z
UID:21521-1750530600-1750543200@turismo.santaisabel.sp.gov.br
SUMMARY:1ª CORRIDA NOTURNA DE SANTA ISABEL
DESCRIPTION:Data: 21 de junho de 2025 \nLocal:  Ginásio Municipal de Esportes “Francisco de Souza – Praça Pref. Hyeróclio Eloy Pessoa de Barros\, 11\, Jd. Monte Serrat. \nHorário: 18h30
URL:https://turismo.santaisabel.sp.gov.br/evento/1a-corrida-noturna-de-santa-isabel/
LOCATION:São Paulo
END:VEVENT
BEGIN:VEVENT
DTSTART;TZID=America/Sao_Paulo:20250622T100000
DTEND;TZID=America/Sao_Paulo:20250622T130000
DTSTAMP:20260424T070955
CREATED:20250506T134622Z
LAST-MODIFIED:20250604T130411Z
UID:21523-1750586400-1750597200@turismo.santaisabel.sp.gov.br
SUMMARY:CAVALGADA - GRANDE FINAL - CONHEÇA A RAINHA DO RODEIO 2025
DESCRIPTION:Data: 22 junho de 2025 \nSaída:  Terminal Rodoviário Urbano – Rua Pref. José Raymundo Lobo\, s/n\, Jd. Monte Serrat\nDestino: Av. Nicola Cianflone\, 309\, Lanifício (Lanifício Esporte Clube) \nHorário:  10h \nEncerramento com show ao vivo! \n 
URL:https://turismo.santaisabel.sp.gov.br/evento/cavalgada-de-aniversario-da-cidade/
LOCATION:São Paulo
END:VEVENT
BEGIN:VEVENT
DTSTART;TZID=America/Sao_Paulo:20250622T140000
DTEND;TZID=America/Sao_Paulo:20250622T180000
DTSTAMP:20260424T070955
CREATED:20250509T180844Z
LAST-MODIFIED:20250509T180844Z
UID:21602-1750600800-1750615200@turismo.santaisabel.sp.gov.br
SUMMARY:RAINHA DO RODEIO
DESCRIPTION:Data: 22 junho de 2025 \nLocal: Jakson’s Bar – Av. Nicola Cianflone\, 309\, Lanifício. \nHorário: 14h
URL:https://turismo.santaisabel.sp.gov.br/evento/rainha-do-rodeio/
LOCATION:São Paulo
END:VEVENT
END:VCALENDAR